BEGIN:VCALENDAR
VERSION:2.0
PRODID:spatie/icalendar-generator
DESCRIPTION:Events from Hearth Place
X-WR-CALDESC:Events from Hearth Place
REFRESH-INTERVAL;VALUE=DURATION:PT1440M
X-PUBLISHED-TTL:PT1440M
BEGIN:VTIMEZONE
TZID:America/Toronto
BEGIN:STANDARD
DTSTART:20251102T020000Z
TZOFFSETFROM:-0400
TZOFFSETTO:-0500
END:STANDARD
BEGIN:DAYLIGHT
DTSTART:20260308T020000Z
TZOFFSETFROM:-0500
TZOFFSETTO:-0400
END:DAYLIGHT
BEGIN:STANDARD
DTSTART:20261101T020000Z
TZOFFSETFROM:-0400
TZOFFSETTO:-0500
END:STANDARD
END:VTIMEZONE
BEGIN:VTIMEZONE
TZID:UTC
BEGIN:STANDARD
DTSTART:20250725T131125Z
TZOFFSETFROM:+0000
TZOFFSETTO:+0000
END:STANDARD
END:VTIMEZONE
BEGIN:VEVENT
UID:5396-8
DTSTAMP:20260421T131125Z
SUMMARY:Golf Fore Hearth Place
LOCATION:Black Diamond Golf Club 705 Pontypool Road  Pontypool ON L0A 1K0
ORGANIZER;CN=Hearth Place:MAILTO:events@hearthplace.org
DTSTART;TZID=America/Toronto:20260605T103000
DTEND;TZID=America/Toronto:20260605T191500
X-ALT-DESC;FMTTYPE=TEXT/HTML:30TH Annual Charity Golf Tournament An Amazing
  Day of Golfing for a Great Cause Join us Friday\, June 5th\, 2026 for the
  30th Annual Tournament! To be added to our waitlist contact: Kelly@Hearth
 Place.org or 905-579-4833
CATEGORIES:Events
URL;VALUE=URI:https://hearthplace.org/events/golf/
METHOD:PUBLISH
END:VEVENT
END:VCALENDAR