BEGIN:VCALENDAR
VERSION:2.0
PRODID:spatie/icalendar-generator
DESCRIPTION:Events from Hearth Place
X-WR-CALDESC:Events from Hearth Place
REFRESH-INTERVAL;VALUE=DURATION:PT1440M
X-PUBLISHED-TTL:PT1440M
BEGIN:VTIMEZONE
TZID:America/Toronto
BEGIN:DAYLIGHT
DTSTART:20200308T020000Z
TZOFFSETFROM:-0500
TZOFFSETTO:-0400
END:DAYLIGHT
BEGIN:STANDARD
DTSTART:20201101T020000Z
TZOFFSETFROM:-0400
TZOFFSETTO:-0500
END:STANDARD
BEGIN:DAYLIGHT
DTSTART:20210314T020000Z
TZOFFSETFROM:-0500
TZOFFSETTO:-0400
END:DAYLIGHT
END:VTIMEZONE
BEGIN:VTIMEZONE
TZID:UTC
BEGIN:STANDARD
DTSTART:20250725T083409Z
TZOFFSETFROM:+0000
TZOFFSETTO:+0000
END:STANDARD
END:VTIMEZONE
BEGIN:VEVENT
UID:626-71
DTSTAMP:20260421T083409Z
SUMMARY:WOW Greeting Cards Fundraiser
LOCATION:
ORGANIZER;CN=Shauna:MAILTO:shauna@hearthplace.org
DTSTART;TZID=America/Toronto;VALUE=DATE:20201102
DTEND;TZID=America/Toronto;VALUE=DATE:20201217
X-ALT-DESC;FMTTYPE=TEXT/HTML:White Oaks Wishes is excited to offer WOW gree
 ting cards in support of Hearth Place Cancer Support Centre! WOW will be s
 elling bundles of their beautiful\, high quality greeting cards at a cost 
 of $20.00/bundle of 5 cards\, with $8.75/bundle going to Hearth Place. Sim
 ply choose your Birthday or Christmas bundle(s) and email your order&amp;helli
 p\;
CATEGORIES:Events
URL;VALUE=URI:https://hearthplace.org/events/wow-greeting-cards-fundraiser/
METHOD:PUBLISH
END:VEVENT
END:VCALENDAR