BEGIN:VCALENDAR
VERSION:2.0
PRODID:spatie/icalendar-generator
DESCRIPTION:Events from Hearth Place
X-WR-CALDESC:Events from Hearth Place
REFRESH-INTERVAL;VALUE=DURATION:PT1440M
X-PUBLISHED-TTL:PT1440M
BEGIN:VTIMEZONE
TZID:America/Toronto
BEGIN:STANDARD
DTSTART:20251102T020000Z
TZOFFSETFROM:-0400
TZOFFSETTO:-0500
END:STANDARD
BEGIN:DAYLIGHT
DTSTART:20260308T020000Z
TZOFFSETFROM:-0500
TZOFFSETTO:-0400
END:DAYLIGHT
END:VTIMEZONE
BEGIN:VTIMEZONE
TZID:UTC
BEGIN:STANDARD
DTSTART:20250724T095348Z
TZOFFSETFROM:+0000
TZOFFSETTO:+0000
END:STANDARD
END:VTIMEZONE
BEGIN:VEVENT
UID:5521-1002
DTSTAMP:20260420T095348Z
SUMMARY:Why Do I Feel Guilty?
LOCATION:In Person at Hearth Place and Online with Zoom
ORGANIZER;CN=Stephanie Hamilton:MAILTO:stephanie@hearthplace.org
RRULE:FREQ=WEEKLY;UNTIL=20260519T000000Z
DTSTART;TZID=America/Toronto:20260421T130000
DTEND;TZID=America/Toronto:20260421T143000
X-ALT-DESC;FMTTYPE=TEXT/HTML:Do you feel guilty when you cannot do the thin
 gs that you used to be able to do for family\, friends\, or even at work? 
 Do you compare your cancer experience to others' experiences\, whose situa
 tions you believe are worse than yours? How do you handle the guilt you fe
 el about how worried your loved&amp;hellip\;
CATEGORIES:Programs
URL;VALUE=URI:https://hearthplace.org/events/why-do-i-feel-guilty-5/?mc_id=
 5521
METHOD:PUBLISH
END:VEVENT
END:VCALENDAR