BEGIN:VCALENDAR
VERSION:2.0
PRODID:spatie/icalendar-generator
DESCRIPTION:Events from Hearth Place
X-WR-CALDESC:Events from Hearth Place
REFRESH-INTERVAL;VALUE=DURATION:PT1440M
X-PUBLISHED-TTL:PT1440M
BEGIN:VTIMEZONE
TZID:America/Toronto
BEGIN:DAYLIGHT
DTSTART:20250309T020000Z
TZOFFSETFROM:-0500
TZOFFSETTO:-0400
END:DAYLIGHT
BEGIN:STANDARD
DTSTART:20251102T020000Z
TZOFFSETFROM:-0400
TZOFFSETTO:-0500
END:STANDARD
BEGIN:DAYLIGHT
DTSTART:20260308T020000Z
TZOFFSETFROM:-0500
TZOFFSETTO:-0400
END:DAYLIGHT
END:VTIMEZONE
BEGIN:VTIMEZONE
TZID:UTC
BEGIN:STANDARD
DTSTART:20250725T143228Z
TZOFFSETFROM:+0000
TZOFFSETTO:+0000
END:STANDARD
END:VTIMEZONE
BEGIN:VEVENT
UID:4806-676
DTSTAMP:20260421T143228Z
SUMMARY:Spaghetti Dinner
LOCATION:BarDown Gastropub 500 Victoria ST W  Whitby ON L1N 9G4
ORGANIZER;CN=Hearth Place:MAILTO:events@hearthplace.org
DTSTART;TZID=America/Toronto:20251026T170000
DTEND;TZID=America/Toronto:20251026T200000
X-ALT-DESC;FMTTYPE=TEXT/HTML:Tickets are now SOLD OUT! Thank you to everyon
 e who supported our Spaghetti Dinner Fundraiser! We’re so grateful for y
 our amazing support and can’t wait to see you there. &amp;nbsp\; Join us on 
 Sunday\, October 26th\, at BarDown Gastropub for a delicious dinner and fa
 mily fun activities including\; sucker pull\, special character appearance
 s\, promotional draws\,&amp;hellip\;
CATEGORIES:Events
URL;VALUE=URI:https://hearthplace.org/events/spaghetti/
METHOD:PUBLISH
END:VEVENT
END:VCALENDAR