BEGIN:VCALENDAR
VERSION:2.0
PRODID:spatie/icalendar-generator
DESCRIPTION:Events from Hearth Place
X-WR-CALDESC:Events from Hearth Place
REFRESH-INTERVAL;VALUE=DURATION:PT1440M
X-PUBLISHED-TTL:PT1440M
BEGIN:VTIMEZONE
TZID:America/Toronto
BEGIN:DAYLIGHT
DTSTART:20240310T020000Z
TZOFFSETFROM:-0500
TZOFFSETTO:-0400
END:DAYLIGHT
BEGIN:STANDARD
DTSTART:20241103T020000Z
TZOFFSETFROM:-0400
TZOFFSETTO:-0500
END:STANDARD
BEGIN:DAYLIGHT
DTSTART:20250309T020000Z
TZOFFSETFROM:-0500
TZOFFSETTO:-0400
END:DAYLIGHT
END:VTIMEZONE
BEGIN:VTIMEZONE
TZID:UTC
BEGIN:STANDARD
DTSTART:20250725T100852Z
TZOFFSETFROM:+0000
TZOFFSETTO:+0000
END:STANDARD
END:VTIMEZONE
BEGIN:VEVENT
UID:3699-717
DTSTAMP:20260421T100852Z
SUMMARY:Fall Festival Fundraiser
LOCATION:Livita Centennial Retirement Living  259 Hillcroft Street   Oshawa
   Ontario L1G 8E4
ORGANIZER;CN=wpcloud:MAILTO:alerts@wpcloud.ca
DTSTART;TZID=America/Toronto:20240914T110000
DTEND;TZID=America/Toronto:20240914T120000
X-ALT-DESC;FMTTYPE=TEXT/HTML:Join Livita Centennial Retirement Living for t
 heir Fall Festival
CATEGORIES:Events
URL;VALUE=URI:https://hearthplace.org/events/fall-festival-fundraiser/
METHOD:PUBLISH
END:VEVENT
END:VCALENDAR