BEGIN:VCALENDAR
VERSION:2.0
PRODID:spatie/icalendar-generator
DESCRIPTION:Events from Hearth Place
X-WR-CALDESC:Events from Hearth Place
REFRESH-INTERVAL;VALUE=DURATION:PT1440M
X-PUBLISHED-TTL:PT1440M
BEGIN:VTIMEZONE
TZID:America/Toronto
BEGIN:DAYLIGHT
DTSTART:20230312T020000Z
TZOFFSETFROM:-0500
TZOFFSETTO:-0400
END:DAYLIGHT
BEGIN:STANDARD
DTSTART:20231105T020000Z
TZOFFSETFROM:-0400
TZOFFSETTO:-0500
END:STANDARD
BEGIN:DAYLIGHT
DTSTART:20240310T020000Z
TZOFFSETFROM:-0500
TZOFFSETTO:-0400
END:DAYLIGHT
END:VTIMEZONE
BEGIN:VTIMEZONE
TZID:UTC
BEGIN:STANDARD
DTSTART:20250725T100926Z
TZOFFSETFROM:+0000
TZOFFSETTO:+0000
END:STANDARD
END:VTIMEZONE
BEGIN:VEVENT
UID:2637-561
DTSTAMP:20260421T100926Z
SUMMARY:Introduction to Immunotherapy
LOCATION:Zoom Meeting
ORGANIZER;CN=Stephanie Hamilton:MAILTO:stephanie@hearthplace.org
DTSTART;TZID=America/Toronto:20231024T100000
DTEND;TZID=America/Toronto:20231024T112900
X-ALT-DESC;FMTTYPE=TEXT/HTML:Immunotherapy is a growing field in the treatm
 ent of cancer. It works differently on the body from chemotherapy while ai
 ming for the same goal: destroying cancer cells. This online seminar will 
 help us to understand immunotherapy\, how it differs from chemotherapy\, a
 nd what to expect if you have been offered this treatment. This session is
 &amp;hellip\;
CATEGORIES:Programs
URL;VALUE=URI:https://hearthplace.org/events/introduction-to-immunotherapy/
METHOD:PUBLISH
END:VEVENT
END:VCALENDAR